git_url: https://git.bioconductor.org/packages/RcisTarget.hg19.motifDBs.cisbpOnly.500bp
git_branch: RELEASE_3_16
git_last_commit: 05197be
git_last_commit_date: 2022-11-01 11:17:55 -0400 (Tue, 01 Nov 2022)
Package: RcisTarget.hg19.motifDBs.cisbpOnly.500bp
Version: 1.18.0
Maintainer: Sara Aibar
MaintainerEmail: sara.aibar at kuleuven.vib.be