Package: RTCGA.CNV
Version: 1.26.0
Command: /home/biocbuild/bbs-3.16-bioc/R/bin/R CMD build --keep-empty-dirs --no-resave-data RTCGA.CNV
StartedAt: 2023-04-11 10:50:48 -0400 (Tue, 11 Apr 2023)
EndedAt: 2023-04-11 10:51:08 -0400 (Tue, 11 Apr 2023)
EllapsedTime: 19.9 seconds
RetCode: 0
Status: OK
PackageFile: RTCGA.CNV_1.26.0.tar.gz
PackageFileSize: 27.37 <A href="http://en.wikipedia.org/wiki/MiB" target="_blank">MiB</A>