Package: MicrobiomeBenchmarkData
Version: 1.0.0
Command: /home/biocbuild/bbs-3.16-bioc/R/bin/R CMD INSTALL MicrobiomeBenchmarkData
StartedAt: 2023-04-11 10:04:53 -0400 (Tue, 11 Apr 2023)
EndedAt: 2023-04-11 10:05:28 -0400 (Tue, 11 Apr 2023)
EllapsedTime: 35.3 seconds
RetCode: 0
Status: OK