Package: treekoR
Version: 1.6.1
Command: /Library/Frameworks/R.framework/Resources/bin/R CMD build --keep-empty-dirs --no-resave-data treekoR
StartedAt: 2023-04-18 11:38:34 -0400 (Tue, 18 Apr 2023)
EndedAt: 2023-04-18 11:40:24 -0400 (Tue, 18 Apr 2023)
EllapsedTime: 110.4 seconds
RetCode: 0
Status: OK
PackageFile: treekoR_1.6.1.tar.gz
PackageFileSize: 1.576 <A href="http://en.wikipedia.org/wiki/MiB" target="_blank">MiB</A>