Package: SplicingGraphs Version: 1.38.0 Command: /Library/Frameworks/R.framework/Resources/bin/R CMD INSTALL SplicingGraphs StartedAt: 2023-04-16 16:59:11 -0400 (Sun, 16 Apr 2023) EndedAt: 2023-04-16 17:00:27 -0400 (Sun, 16 Apr 2023) EllapsedTime: 76.8 seconds RetCode: 0 Status: OK