git_url: https://git.bioconductor.org/packages/sparseMatrixStats
git_branch: RELEASE_3_16
git_last_commit: 75d85ba
git_last_commit_date: 2022-11-01 11:21:44 -0400 (Tue, 01 Nov 2022)
Package: sparseMatrixStats
Version: 1.10.0
Maintainer: Constantin Ahlmann-Eltze
MaintainerEmail: artjom31415 at googlemail.com