Package: sampleClassifier
Version: 1.22.0
Command: /home/biocbuild/bbs-3.16-bioc/R/bin/R CMD build --keep-empty-dirs --no-resave-data sampleClassifier
StartedAt: 2023-04-10 18:04:21 -0400 (Mon, 10 Apr 2023)
EndedAt: 2023-04-10 18:06:33 -0400 (Mon, 10 Apr 2023)
EllapsedTime: 131.4 seconds
RetCode: 0
Status: OK
PackageFile: sampleClassifier_1.22.0.tar.gz
PackageFileSize: 228.4 <A href="http://en.wikipedia.org/wiki/KiB" target="_blank">KiB</A>