git_url: https://git.bioconductor.org/packages/diffGeneAnalysis
git_branch: RELEASE_3_16
git_last_commit: 2793355
git_last_commit_date: 2022-11-01 10:39:42 -0400 (Tue, 01 Nov 2022)
Package: diffGeneAnalysis
Version: 1.80.0
Maintainer: Choudary Jagarlamudi
MaintainerEmail: choudary.jagar at swosu.edu