Package: TileDBArray
Version: 1.8.0
Command: /home/biocbuild/bbs-3.16-bioc/R/bin/R CMD build --keep-empty-dirs --no-resave-data TileDBArray
StartedAt: 2023-04-10 18:26:33 -0400 (Mon, 10 Apr 2023)
EndedAt: 2023-04-10 18:27:05 -0400 (Mon, 10 Apr 2023)
EllapsedTime: 32.3 seconds
RetCode: 0
Status: OK
PackageFile: TileDBArray_1.8.0.tar.gz
PackageFileSize: 291.6 <A href="http://en.wikipedia.org/wiki/KiB" target="_blank">KiB</A>