Package: ReactomeGraph4R
Version: 1.6.0
Command: /home/biocbuild/bbs-3.16-bioc/R/bin/R CMD INSTALL ReactomeGraph4R
StartedAt: 2023-04-10 15:25:16 -0400 (Mon, 10 Apr 2023)
EndedAt: 2023-04-10 15:25:22 -0400 (Mon, 10 Apr 2023)
EllapsedTime: 5.5 seconds
RetCode: 0
Status: OK