Package: ReactomeContentService4R
Version: 1.6.0
Command: rm -rf ReactomeContentService4R.buildbin-libdir && mkdir ReactomeContentService4R.buildbin-libdir && F:\biocbuild\bbs-3.16-bioc\R\bin\R.exe CMD INSTALL --build --library=ReactomeContentService4R.buildbin-libdir ReactomeContentService4R_1.6.0.tar.gz
StartedAt: 2023-04-11 08:36:28 -0400 (Tue, 11 Apr 2023)
EndedAt: 2023-04-11 08:37:14 -0400 (Tue, 11 Apr 2023)
EllapsedTime: 46.1 seconds
RetCode: 0
Status: OK
PackageFile: ReactomeContentService4R_1.6.0.zip
PackageFileSize: 1.142 <A href="http://en.wikipedia.org/wiki/MiB" target="_blank">MiB</A>