Package: ModCon
Version: 1.6.0
Command: /home/biocbuild/bbs-3.16-bioc/R/bin/R CMD INSTALL ModCon
StartedAt: 2023-04-10 15:09:11 -0400 (Mon, 10 Apr 2023)
EndedAt: 2023-04-10 15:09:30 -0400 (Mon, 10 Apr 2023)
EllapsedTime: 18.7 seconds
RetCode: 0
Status: OK