Package: scRNAseq
Version: 2.9.2
Command: /home/biocbuild/bbs-3.15-data-experiment/R/bin/R CMD build --keep-empty-dirs --no-resave-data scRNAseq
StartedAt: 2022-02-17 06:17:42 -0500 (Thu, 17 Feb 2022)
EndedAt: 2022-02-17 06:19:29 -0500 (Thu, 17 Feb 2022)
EllapsedTime: 107.6 seconds
RetCode: 0
Status: OK
PackageFile: scRNAseq_2.9.2.tar.gz
PackageFileSize: 341 <A href="http://en.wikipedia.org/wiki/KiB" target="_blank">KiB</A>