##############################################################################
##############################################################################
###
### Running command:
###
###   /home/biocbuild/bbs-3.15-data-experiment/R/bin/R CMD build --keep-empty-dirs --no-resave-data preciseTADhub
###
##############################################################################
##############################################################################


* checking for file ‘preciseTADhub/DESCRIPTION’ ... OK
* preparing ‘preciseTADhub’:
* checking DESCRIPTION meta-information ... OK
* installing the package to build vignettes
* creating vignettes ... OK
* checking for LF line-endings in source and make files and shell scripts
* checking for empty or unneeded directories
Omitted ‘LazyData’ from DESCRIPTION
* building ‘preciseTADhub_1.3.0.tar.gz’