##############################################################################
##############################################################################
###
### Running command:
###
###   /home/biocbuild/bbs-3.15-data-experiment/R/bin/R CMD build --keep-empty-dirs --no-resave-data optimalFlowData
###
##############################################################################
##############################################################################


* checking for file ‘optimalFlowData/DESCRIPTION’ ... OK
* preparing ‘optimalFlowData’:
* checking DESCRIPTION meta-information ... OK
* installing the package to build vignettes
* creating vignettes ... OK
* checking for LF line-endings in source and make files and shell scripts
* checking for empty or unneeded directories
* building ‘optimalFlowData_1.7.0.tar.gz’