Package: microbiomeDataSets
Version: 1.3.0
Command: /home/biocbuild/bbs-3.15-data-experiment/R/bin/R CMD build --keep-empty-dirs --no-resave-data microbiomeDataSets
StartedAt: 2022-02-17 06:06:53 -0500 (Thu, 17 Feb 2022)
EndedAt: 2022-02-17 06:07:46 -0500 (Thu, 17 Feb 2022)
EllapsedTime: 52.6 seconds
RetCode: 0
Status: OK
PackageFile: microbiomeDataSets_1.3.0.tar.gz
PackageFileSize: 262.6 <A href="http://en.wikipedia.org/wiki/KiB" target="_blank">KiB</A>