Package: ffpeExampleData
Version: 1.33.0
Command: /home/biocbuild/bbs-3.15-data-experiment/R/bin/R CMD INSTALL ffpeExampleData
StartedAt: 2022-02-17 05:10:05 -0500 (Thu, 17 Feb 2022)
EndedAt: 2022-02-17 05:10:39 -0500 (Thu, 17 Feb 2022)
EllapsedTime: 34.5 seconds
RetCode: 0
Status: OK