Package: TCGAcrcmRNA
Version: 1.15.0
Command: /home/biocbuild/bbs-3.15-data-experiment/R/bin/R CMD INSTALL TCGAcrcmRNA
StartedAt: 2022-02-17 05:01:40 -0500 (Thu, 17 Feb 2022)
EndedAt: 2022-02-17 05:01:44 -0500 (Thu, 17 Feb 2022)
EllapsedTime: 4.4 seconds
RetCode: 0
Status: OK