git_url: https://git.bioconductor.org/packages/Single.mTEC.Transcriptomes
git_branch: RELEASE_3_15
git_last_commit: f6796f1
git_last_commit_date: 2022-04-26 13:21:16 -0400 (Tue, 26 Apr 2022)
Package: Single.mTEC.Transcriptomes
Version: 1.24.0
Maintainer: Alejandro Reyes
MaintainerEmail: alejandro.reyes.ds at gmail.com