Package: RTCGA.mutations
Version: 20151101.25.0
Command: /home/biocbuild/bbs-3.15-data-experiment/R/bin/R CMD INSTALL RTCGA.mutations
StartedAt: 2022-02-17 05:11:51 -0500 (Thu, 17 Feb 2022)
EndedAt: 2022-02-17 05:15:25 -0500 (Thu, 17 Feb 2022)
EllapsedTime: 214.2 seconds
RetCode: 0
Status: OK