Package: PathNetData
Version: 1.32.0
Command: /home/biocbuild/bbs-3.15-bioc/R/bin/R CMD build --keep-empty-dirs --no-resave-data PathNetData
StartedAt: 2022-10-18 10:34:39 -0400 (Tue, 18 Oct 2022)
EndedAt: 2022-10-18 10:34:41 -0400 (Tue, 18 Oct 2022)
EllapsedTime: 2.0 seconds
RetCode: 0
Status: OK
PackageFile: PathNetData_1.32.0.tar.gz
PackageFileSize: 2.427 <A href="http://en.wikipedia.org/wiki/MiB" target="_blank">MiB</A>