Package: MouseGastrulationData
Version: 1.9.0
Command: /home/biocbuild/bbs-3.15-data-experiment/R/bin/R CMD INSTALL MouseGastrulationData
StartedAt: 2022-02-17 05:04:48 -0500 (Thu, 17 Feb 2022)
EndedAt: 2022-02-17 05:05:31 -0500 (Thu, 17 Feb 2022)
EllapsedTime: 43.8 seconds
RetCode: 0
Status: OK