git_url: https://git.bioconductor.org/packages/BeadArrayUseCases
git_branch: RELEASE_3_15
git_last_commit: 64c0a11
git_last_commit_date: 2022-04-26 13:02:19 -0400 (Tue, 26 Apr 2022)
Package: BeadArrayUseCases
Version: 1.34.0
Maintainer: Mike Smith
MaintainerEmail: grimbough at gmail.com