##############################################################################
##############################################################################
###
### Running command:
###
###   C:\cygwin\bin\curl.exe -O http://155.52.207.166/BBS/3.14/workflows/src/contrib/csawUsersGuide_1.10.0.tar.gz && rm -rf csawUsersGuide.buildbin-libdir && mkdir csawUsersGuide.buildbin-libdir && D:\biocbuild\bbs-3.14-bioc\R\bin\R.exe CMD INSTALL --merge-multiarch --build --library=csawUsersGuide.buildbin-libdir csawUsersGuide_1.10.0.tar.gz && D:\biocbuild\bbs-3.14-bioc\R\bin\R.exe CMD INSTALL csawUsersGuide_1.10.0.zip && rm csawUsersGuide_1.10.0.tar.gz csawUsersGuide_1.10.0.zip
###
##############################################################################
##############################################################################


  % Total    % Received % Xferd  Average Speed   Time    Time     Time  Current
                                 Dload  Upload   Total   Spent    Left  Speed

  0     0    0     0    0     0      0      0 --:--:-- --:--:-- --:--:--     0
100  1341  100  1341    0     0  15964      0 --:--:-- --:--:-- --:--:-- 16156

install for i386

* installing *source* package 'csawUsersGuide' ...
** using staged installation
** inst
** help
No man pages found in package  'csawUsersGuide' 
*** installing help indices
** building package indices
** installing vignettes
** testing if installed package can be loaded from temporary location
** testing if installed package can be loaded from final location
** testing if installed package keeps a record of temporary installation path

install for x64

* installing *source* package 'csawUsersGuide' ...
** testing if installed package can be loaded
* MD5 sums
packaged installation of 'csawUsersGuide' as csawUsersGuide_1.10.0.zip
* DONE (csawUsersGuide)
* installing to library 'D:/biocbuild/bbs-3.14-bioc/R/library'
package 'csawUsersGuide' successfully unpacked and MD5 sums checked