Package: spqnData
Version: 1.6.0
Command: /home/biocbuild/bbs-3.14-bioc/R/bin/R CMD INSTALL spqnData
StartedAt: 2022-04-13 10:02:02 -0400 (Wed, 13 Apr 2022)
EndedAt: 2022-04-13 10:02:12 -0400 (Wed, 13 Apr 2022)
EllapsedTime: 10.0 seconds
RetCode: 0
Status: OK