##############################################################################
##############################################################################
###
### Running command:
###
###   /home/biocbuild/bbs-3.14-bioc/R/bin/R CMD build --keep-empty-dirs --no-resave-data spqnData
###
##############################################################################
##############################################################################


* checking for file ‘spqnData/DESCRIPTION’ ... OK
* preparing ‘spqnData’:
* checking DESCRIPTION meta-information ... OK
* checking for LF line-endings in source and make files and shell scripts
* checking for empty or unneeded directories
* looking to see if a ‘data/datalist’ file should be added
* building ‘spqnData_1.6.0.tar.gz’