##############################################################################
##############################################################################
###
### Running command:
###
###   /home/biocbuild/bbs-3.14-bioc/R/bin/R CMD build --keep-empty-dirs --no-resave-data pasillaBamSubset
###
##############################################################################
##############################################################################


* checking for file ‘pasillaBamSubset/DESCRIPTION’ ... OK
* preparing ‘pasillaBamSubset’:
* checking DESCRIPTION meta-information ... OK
* checking for LF line-endings in source and make files and shell scripts
* checking for empty or unneeded directories
* building ‘pasillaBamSubset_0.32.0.tar.gz’