Package: pasilla
Version: 1.22.0
Command: /home/biocbuild/bbs-3.14-bioc/R/bin/R CMD build --keep-empty-dirs --no-resave-data pasilla
StartedAt: 2022-04-13 10:36:27 -0400 (Wed, 13 Apr 2022)
EndedAt: 2022-04-13 10:36:49 -0400 (Wed, 13 Apr 2022)
EllapsedTime: 22.4 seconds
RetCode: 0
Status: OK
PackageFile: pasilla_1.22.0.tar.gz
PackageFileSize: 3.156 <A href="http://en.wikipedia.org/wiki/MiB" target="_blank">MiB</A>