Package: minfiData
Version: 0.40.0
Command: /home/biocbuild/bbs-3.14-bioc/R/bin/R CMD build --keep-empty-dirs --no-resave-data minfiData
StartedAt: 2022-04-13 10:33:56 -0400 (Wed, 13 Apr 2022)
EndedAt: 2022-04-13 10:34:06 -0400 (Wed, 13 Apr 2022)
EllapsedTime: 10.4 seconds
RetCode: 0
Status: OK
PackageFile: minfiData_0.40.0.tar.gz
PackageFileSize: 74.56 <A href="http://en.wikipedia.org/wiki/MiB" target="_blank">MiB</A>