Package: lungExpression Version: 0.32.1 Command: /home/biocbuild/bbs-3.14-bioc/R/bin/R CMD build --keep-empty-dirs --no-resave-data lungExpression StartedAt: 2022-04-13 10:31:39 -0400 (Wed, 13 Apr 2022) EndedAt: 2022-04-13 10:31:40 -0400 (Wed, 13 Apr 2022) EllapsedTime: 1.3 seconds RetCode: 0 Status: OK PackageFile: lungExpression_0.32.1.tar.gz PackageFileSize: 5.681 <A href="http://en.wikipedia.org/wiki/MiB" target="_blank">MiB</A>