Package: celarefData
Version: 1.12.0
Command: /home/biocbuild/bbs-3.14-bioc/R/bin/R CMD INSTALL celarefData
StartedAt: 2022-04-13 10:01:44 -0400 (Wed, 13 Apr 2022)
EndedAt: 2022-04-13 10:01:45 -0400 (Wed, 13 Apr 2022)
EllapsedTime: 1.0 seconds
RetCode: 0
Status: OK