Package: TargetSearchData
Version: 1.32.0
Command: /home/biocbuild/bbs-3.14-bioc/R/bin/R CMD INSTALL TargetSearchData
StartedAt: 2022-04-13 10:00:26 -0400 (Wed, 13 Apr 2022)
EndedAt: 2022-04-13 10:00:28 -0400 (Wed, 13 Apr 2022)
EllapsedTime: 2.1 seconds
RetCode: 0
Status: OK