Package: TCGAcrcmRNA
Version: 1.14.0
Command: /home/biocbuild/bbs-3.14-bioc/R/bin/R CMD build --keep-empty-dirs --no-resave-data TCGAcrcmRNA
StartedAt: 2022-04-13 10:44:29 -0400 (Wed, 13 Apr 2022)
EndedAt: 2022-04-13 10:44:37 -0400 (Wed, 13 Apr 2022)
EllapsedTime: 8.1 seconds
RetCode: 0
Status: OK
PackageFile: TCGAcrcmRNA_1.14.0.tar.gz
PackageFileSize: 35.26 <A href="http://en.wikipedia.org/wiki/MiB" target="_blank">MiB</A>