git_url: https://git.bioconductor.org/packages/TCGAcrcmRNA
git_branch: RELEASE_3_14
git_last_commit: 00cbabe
git_last_commit_date: 2021-10-26 12:10:34 -0400 (Tue, 26 Oct 2021)
Package: TCGAcrcmRNA
Version: 1.14.0
Maintainer: Claudio Isella
MaintainerEmail: claudio.isella at ircc.it