##############################################################################
##############################################################################
###
### Running command:
###
###   /home/biocbuild/bbs-3.14-bioc/R/bin/R CMD build --keep-empty-dirs --no-resave-data SingleMoleculeFootprintingData
###
##############################################################################
##############################################################################


* checking for file ‘SingleMoleculeFootprintingData/DESCRIPTION’ ... OK
* preparing ‘SingleMoleculeFootprintingData’:
* checking DESCRIPTION meta-information ... OK
* installing the package to build vignettes
* creating vignettes ... OK
* checking for LF line-endings in source and make files and shell scripts
* checking for empty or unneeded directories
Omitted ‘LazyData’ from DESCRIPTION
* building ‘SingleMoleculeFootprintingData_1.2.0.tar.gz’