git_url: https://git.bioconductor.org/packages/RcisTarget.hg19.motifDBs.cisbpOnly.500bp
git_branch: RELEASE_3_14
git_last_commit: 2d6be26
git_last_commit_date: 2021-10-26 12:30:59 -0400 (Tue, 26 Oct 2021)
Package: RcisTarget.hg19.motifDBs.cisbpOnly.500bp
Version: 1.14.0
Maintainer: Sara Aibar
MaintainerEmail: sara.aibar at kuleuven.vib.be