git_url: https://git.bioconductor.org/packages/RTCGA.PANCAN12
git_branch: RELEASE_3_14
git_last_commit: 316c03a
git_last_commit_date: 2021-10-26 12:20:35 -0400 (Tue, 26 Oct 2021)
Package: RTCGA.PANCAN12
Version: 1.22.0
Maintainer: Marcin Kosinski
MaintainerEmail: m.p.kosinski at gmail.com