Package: LungCancerLines
Version: 0.32.0
Command: /home/biocbuild/bbs-3.14-bioc/R/bin/R CMD INSTALL LungCancerLines
StartedAt: 2022-04-13 10:02:48 -0400 (Wed, 13 Apr 2022)
EndedAt: 2022-04-13 10:02:58 -0400 (Wed, 13 Apr 2022)
EllapsedTime: 9.6 seconds
RetCode: 0
Status: OK