Package: LungCancerLines
Version: 0.32.0
Command: /home/biocbuild/bbs-3.14-bioc/R/bin/R CMD build --keep-empty-dirs --no-resave-data LungCancerLines
StartedAt: 2022-04-13 10:31:38 -0400 (Wed, 13 Apr 2022)
EndedAt: 2022-04-13 10:31:39 -0400 (Wed, 13 Apr 2022)
EllapsedTime: 1.0 seconds
RetCode: 0
Status: OK
PackageFile: LungCancerLines_0.32.0.tar.gz
PackageFileSize: 1.608 <A href="http://en.wikipedia.org/wiki/MiB" target="_blank">MiB</A>