git_url: https://git.bioconductor.org/packages/GenomicDistributionsData
git_branch: RELEASE_3_14
git_last_commit: da32d34
git_last_commit_date: 2021-10-26 12:39:32 -0400 (Tue, 26 Oct 2021)
Package: GenomicDistributionsData
Version: 1.2.0
Maintainer: Kristyna Kupkova
MaintainerEmail: kristynakupkova at gmail.com