Package: DeSousa2013
Version: 1.30.0
Command: /home/biocbuild/bbs-3.14-bioc/R/bin/R CMD INSTALL DeSousa2013
StartedAt: 2022-04-13 10:06:25 -0400 (Wed, 13 Apr 2022)
EndedAt: 2022-04-13 10:06:48 -0400 (Wed, 13 Apr 2022)
EllapsedTime: 22.9 seconds
RetCode: 0
Status: OK