Package: BloodCancerMultiOmics2017
Version: 1.14.0
Command: /home/biocbuild/bbs-3.14-bioc/R/bin/R CMD INSTALL BloodCancerMultiOmics2017
StartedAt: 2022-04-13 10:09:49 -0400 (Wed, 13 Apr 2022)
EndedAt: 2022-04-13 10:10:32 -0400 (Wed, 13 Apr 2022)
EllapsedTime: 43.1 seconds
RetCode: 0
Status: OK