##############################################################################
##############################################################################
###
### Running command:
###
###   /home/biocbuild/bbs-3.14-bioc/R/bin/R CMD build --keep-empty-dirs --no-resave-data AneuFinderData
###
##############################################################################
##############################################################################


* checking for file ‘AneuFinderData/DESCRIPTION’ ... OK
* preparing ‘AneuFinderData’:
* checking DESCRIPTION meta-information ... OK
* checking for LF line-endings in source and make files and shell scripts
* checking for empty or unneeded directories
* building ‘AneuFinderData_1.22.0.tar.gz’