Package: ALLMLL
Version: 1.34.0
Command: /home/biocbuild/bbs-3.14-bioc/R/bin/R CMD build --keep-empty-dirs --no-resave-data ALLMLL
StartedAt: 2022-04-13 10:12:01 -0400 (Wed, 13 Apr 2022)
EndedAt: 2022-04-13 10:12:06 -0400 (Wed, 13 Apr 2022)
EllapsedTime: 4.3 seconds
RetCode: 0
Status: OK
PackageFile: ALLMLL_1.34.0.tar.gz
PackageFileSize: 25.62 <A href="http://en.wikipedia.org/wiki/MiB" target="_blank">MiB</A>