git_url: https://git.bioconductor.org/packages/transcriptR
git_branch: RELEASE_3_14
git_last_commit: 6605278
git_last_commit_date: 2021-10-26 12:24:18 -0400 (Tue, 26 Oct 2021)
Package: transcriptR
Version: 1.22.0
Maintainer: Armen R. Karapetyan
MaintainerEmail: armen.karapetyan87 at gmail.com