Package: sparseMatrixStats
Version: 1.6.0
Command: /Library/Frameworks/R.framework/Resources/bin/R CMD build --keep-empty-dirs --no-resave-data sparseMatrixStats
StartedAt: 2022-04-12 09:08:31 -0400 (Tue, 12 Apr 2022)
EndedAt: 2022-04-12 09:09:39 -0400 (Tue, 12 Apr 2022)
EllapsedTime: 67.5 seconds
RetCode: 0
Status: OK
PackageFile: sparseMatrixStats_1.6.0.tar.gz
PackageFileSize: 685.6 <A href="http://en.wikipedia.org/wiki/KiB" target="_blank">KiB</A>