Package: interactiveDisplayBase
Version: 1.32.0
Command: /home/biocbuild/bbs-3.14-bioc/R/bin/R CMD INSTALL interactiveDisplayBase
StartedAt: 2022-04-12 03:16:19 -0400 (Tue, 12 Apr 2022)
EndedAt: 2022-04-12 03:16:30 -0400 (Tue, 12 Apr 2022)
EllapsedTime: 11.2 seconds
RetCode: 0
Status: OK