Package: compcodeR
Version: 1.30.0
Command: /home/biocbuild/bbs-3.14-bioc/R/bin/R CMD INSTALL compcodeR
StartedAt: 2022-04-12 03:20:08 -0400 (Tue, 12 Apr 2022)
EndedAt: 2022-04-12 03:20:18 -0400 (Tue, 12 Apr 2022)
EllapsedTime: 10.4 seconds
RetCode: 0
Status: OK