Package: arrayQualityMetrics
Version: 3.50.0
Command: /home/biocbuild/bbs-3.14-bioc/R/bin/R CMD build --keep-empty-dirs --no-resave-data arrayQualityMetrics
StartedAt: 2022-04-12 03:53:11 -0400 (Tue, 12 Apr 2022)
EndedAt: 2022-04-12 04:00:06 -0400 (Tue, 12 Apr 2022)
EllapsedTime: 415.0 seconds
RetCode: 0
Status: OK
PackageFile: arrayQualityMetrics_3.50.0.tar.gz
PackageFileSize: 586.6 <A href="http://en.wikipedia.org/wiki/KiB" target="_blank">KiB</A>