Package: SummarizedBenchmark
Version: 2.12.0
Command: /home/biocbuild/bbs-3.14-bioc/R/bin/R CMD INSTALL SummarizedBenchmark
StartedAt: 2022-04-12 03:31:48 -0400 (Tue, 12 Apr 2022)
EndedAt: 2022-04-12 03:32:20 -0400 (Tue, 12 Apr 2022)
EllapsedTime: 31.9 seconds
RetCode: 0
Status: OK